BEGIN:VCALENDAR
VERSION:2.0
PRODID:-//Urban Bird Project - ECPv6.15.20//NONSGML v1.0//EN
CALSCALE:GREGORIAN
METHOD:PUBLISH
X-WR-CALNAME:Urban Bird Project
X-ORIGINAL-URL:https://urbanbirdproject.org
X-WR-CALDESC:Events for Urban Bird Project
REFRESH-INTERVAL;VALUE=DURATION:PT1H
X-Robots-Tag:noindex
X-PUBLISHED-TTL:PT1H
BEGIN:VTIMEZONE
TZID:America/Chicago
BEGIN:DAYLIGHT
TZOFFSETFROM:-0600
TZOFFSETTO:-0500
TZNAME:CDT
DTSTART:20240310T080000
END:DAYLIGHT
BEGIN:STANDARD
TZOFFSETFROM:-0500
TZOFFSETTO:-0600
TZNAME:CST
DTSTART:20241103T070000
END:STANDARD
BEGIN:DAYLIGHT
TZOFFSETFROM:-0600
TZOFFSETTO:-0500
TZNAME:CDT
DTSTART:20250309T080000
END:DAYLIGHT
BEGIN:STANDARD
TZOFFSETFROM:-0500
TZOFFSETTO:-0600
TZNAME:CST
DTSTART:20251102T070000
END:STANDARD
BEGIN:DAYLIGHT
TZOFFSETFROM:-0600
TZOFFSETTO:-0500
TZNAME:CDT
DTSTART:20260308T080000
END:DAYLIGHT
BEGIN:STANDARD
TZOFFSETFROM:-0500
TZOFFSETTO:-0600
TZNAME:CST
DTSTART:20261101T070000
END:STANDARD
BEGIN:DAYLIGHT
TZOFFSETFROM:-0600
TZOFFSETTO:-0500
TZNAME:CDT
DTSTART:20270314T080000
END:DAYLIGHT
BEGIN:STANDARD
TZOFFSETFROM:-0500
TZOFFSETTO:-0600
TZNAME:CST
DTSTART:20271107T070000
END:STANDARD
END:VTIMEZONE
BEGIN:VEVENT
DTSTART;VALUE=DATE:20250904
DTEND;VALUE=DATE:20251207
DTSTAMP:20260425T115019
CREATED:20250914T225354Z
LAST-MODIFIED:20251001T163938Z
UID:2433-1756944000-1765065599@urbanbirdproject.org
SUMMARY:Fall 2025 Events
DESCRIPTION:Check out all of the events we have planned for Fall 2025!
URL:https://urbanbirdproject.org/event/fall-20225-events/
ATTACH;FMTTYPE=image/png:https://urbanbirdproject.org/wp-content/uploads/2025/09/Fall-Events-2025_updated.png
END:VEVENT
BEGIN:VEVENT
DTSTART;TZID=America/Chicago:20250904T113000
DTEND;TZID=America/Chicago:20250904T130000
DTSTAMP:20260425T115019
CREATED:20250901T225409Z
LAST-MODIFIED:20250912T142225Z
UID:2026-1756985400-1756990800@urbanbirdproject.org
SUMMARY:Find the Missing Migratory Birds
DESCRIPTION:Please join UBP as we welcome back Dr. Rafael Rueda Hernandez to Yanaguana!! Dr. Rueda will present a talk Thursday 9/4 on bioacoustic monitoring of migratory birds along the central flyway and lead a tech workshop on Friday 9/5.
URL:https://urbanbirdproject.org/event/find-the-missing-migratory-birds/
LOCATION:Private: MH 3.04.26\, UTSA Main Campus
ATTACH;FMTTYPE=image/png:https://urbanbirdproject.org/wp-content/uploads/2025/09/finding-the-missing-migratory-birds-e1756767753428.png
END:VEVENT
BEGIN:VEVENT
DTSTART;TZID=America/Chicago:20250925T113000
DTEND;TZID=America/Chicago:20250925T130000
DTSTAMP:20260425T115019
CREATED:20250917T145341Z
LAST-MODIFIED:20250917T145542Z
UID:2534-1758799800-1758805200@urbanbirdproject.org
SUMMARY:Dr. Graciela Alcántara-Salinas "TOLTECAYOTL Exploring connections between a Mesoamerican cosmovision and permaculture and ornithology in Oaxaca"
DESCRIPTION:
URL:https://urbanbirdproject.org/event/dr-graciela-alcantara-salinas-toltecayotl-exploring-connections-between-a-mesoamerican-cosmovision-and-permaculture-and-ornithology-in-oaxaca/
LOCATION:UTSA Main Campus\, 1 Utsa Cir\, San Antonio\, TX\, San Antonio\, TX\, 78249\, United States
ATTACH;FMTTYPE=image/png:https://urbanbirdproject.org/wp-content/uploads/2025/09/flyer_Graciela-Alcantara-Salinas_SEP25.png
END:VEVENT
BEGIN:VEVENT
DTSTART;TZID=America/Chicago:20251002T113000
DTEND;TZID=America/Chicago:20251002T130000
DTSTAMP:20260425T115019
CREATED:20250926T214003Z
LAST-MODIFIED:20250926T214003Z
UID:2629-1759404600-1759410000@urbanbirdproject.org
SUMMARY:Indigenous Relationality to Birds and Feathers with Milo Colton (Ani Kituwah Cherokee) and Rudy Perez (Lipan Apache Band of Texas)
DESCRIPTION:
URL:https://urbanbirdproject.org/event/indigenous-relationality-to-birds-and-feathers-with-milo-colton-ani-kituwah-cherokee-and-rudy-perez-lipan-apache-band-of-texas/
ATTACH;FMTTYPE=image/png:https://urbanbirdproject.org/wp-content/uploads/2025/09/Indigenous-Relationality-wMilo-Rudy-OCT2.png
END:VEVENT
BEGIN:VEVENT
DTSTART;TZID=America/Chicago:20251018T100000
DTEND;TZID=America/Chicago:20251018T130000
DTSTAMP:20260425T115019
CREATED:20251010T215611Z
LAST-MODIFIED:20251010T215748Z
UID:2688-1760781600-1760792400@urbanbirdproject.org
SUMMARY:Ceremonial Drum and Feather Healing Workshop guided by Coahuiltecan Elder Masauki Celso Zepeda
DESCRIPTION:
URL:https://urbanbirdproject.org/event/ceremonial-drum-and-feather-healing-workshop-guided-by-coahuiltecan-elder-masauki-celso-zepeda/
LOCATION:UTSA Main Campus\, 1 Utsa Cir\, San Antonio\, TX\, San Antonio\, TX\, 78249\, United States
ATTACH;FMTTYPE=image/png:https://urbanbirdproject.org/wp-content/uploads/2025/10/flyer-Masa-OCT18.png
END:VEVENT
BEGIN:VEVENT
DTSTART;TZID=America/Chicago:20251023T090000
DTEND;TZID=America/Chicago:20251023T130000
DTSTAMP:20260425T115019
CREATED:20251022T183554Z
LAST-MODIFIED:20251022T183711Z
UID:2764-1761210000-1761224400@urbanbirdproject.org
SUMMARY:UTSA Birdfest: Art\, Culture\, & Ecology of Birds
DESCRIPTION:
URL:https://urbanbirdproject.org/event/utsa-birdfest-art-culture-ecology-of-birds/
ATTACH;FMTTYPE=image/jpeg:https://urbanbirdproject.org/wp-content/uploads/2025/10/UBP-Birdfest-Flyer.jpg
END:VEVENT
BEGIN:VEVENT
DTSTART;TZID=America/Chicago:20251204T080000
DTEND;TZID=America/Chicago:20251204T170000
DTSTAMP:20260425T115019
CREATED:20251204T172636Z
LAST-MODIFIED:20251204T174839Z
UID:2798-1764835200-1764867600@urbanbirdproject.org
SUMMARY:Fall 2025 Student Symposium
DESCRIPTION:
URL:https://urbanbirdproject.org/event/fall-2025-student-research-symposium/
ATTACH;FMTTYPE=image/png:https://urbanbirdproject.org/wp-content/uploads/2025/12/Fall-2025-Symposium.png
END:VEVENT
BEGIN:VEVENT
DTSTART;TZID=America/Chicago:20260130T080000
DTEND;TZID=America/Chicago:20260515T170000
DTSTAMP:20260425T115019
CREATED:20260130T231546Z
LAST-MODIFIED:20260219T171120Z
UID:2921-1769760000-1778864400@urbanbirdproject.org
SUMMARY:Spring 2026 Events
DESCRIPTION:
URL:https://urbanbirdproject.org/event/spring-2026-events/
ATTACH;FMTTYPE=image/png:https://urbanbirdproject.org/wp-content/uploads/2026/01/UBP-Spring-Events-2026_updated.png
END:VEVENT
BEGIN:VEVENT
DTSTART;TZID=America/Chicago:20260206T090000
DTEND;TZID=America/Chicago:20260206T120000
DTSTAMP:20260425T115019
CREATED:20260130T231937Z
LAST-MODIFIED:20260130T232115Z
UID:2924-1770368400-1770379200@urbanbirdproject.org
SUMMARY:San Pedro Creek Birdwalk with Marisol Cortez and the Urban Bird Project
DESCRIPTION:
URL:https://urbanbirdproject.org/event/san-pedro-creek-birdwalk-with-marisol-cortez-and-the-urban-bird-project/
ATTACH;FMTTYPE=image/png:https://urbanbirdproject.org/wp-content/uploads/2026/01/San-Pedro-Creek-Bird-Walk.png
END:VEVENT
BEGIN:VEVENT
DTSTART;TZID=America/Chicago:20260302T093000
DTEND;TZID=America/Chicago:20260302T140000
DTSTAMP:20260425T115019
CREATED:20260224T171307Z
LAST-MODIFIED:20260224T171329Z
UID:3125-1772443800-1772460000@urbanbirdproject.org
SUMMARY:Tending to the Garden/Cuidando el Jardin de Ecos y Voces del Arte - March 2\, 2026
DESCRIPTION:
URL:https://urbanbirdproject.org/event/tending-to-the-garden-cuidando-el-jardin-de-ecos-y-voces-del-arte/
LOCATION:Galeria EVA\, 3412 S. Flores St.\, San Antonio\, TX\, 78204\, United States
ATTACH;FMTTYPE=image/png:https://urbanbirdproject.org/wp-content/uploads/2026/02/Tending-the-Garden-@EVA-32-Flyer.png
END:VEVENT
BEGIN:VEVENT
DTSTART;TZID=America/Chicago:20260330T100000
DTEND;TZID=America/Chicago:20260330T110000
DTSTAMP:20260425T115019
CREATED:20260306T164658Z
LAST-MODIFIED:20260306T164658Z
UID:3155-1774864800-1774868400@urbanbirdproject.org
SUMMARY:March 30th - Dr. Priscilla Ybarra "OUT(SIDE) BROWN QUEER: ON AUTOHISTORIA-TEORIA IN THE ENVIRONMENTAL HUMANITIES"
DESCRIPTION:
URL:https://urbanbirdproject.org/event/march-30th-dr-priscilla-ybarra-outside-brown-queer-on-autohistoria-teoria-in-the-environmental-humanities/
LOCATION:UTSA Main Campus\, 1 Utsa Cir\, San Antonio\, TX\, San Antonio\, TX\, 78249\, United States
ATTACH;FMTTYPE=image/jpeg:https://urbanbirdproject.org/wp-content/uploads/2026/03/Ybarra_Outside-Brown-Queer_3.30_flyer.jpg
END:VEVENT
BEGIN:VEVENT
DTSTART;TZID=America/Chicago:20260406T160000
DTEND;TZID=America/Chicago:20260406T170000
DTSTAMP:20260425T115019
CREATED:20260404T152741Z
LAST-MODIFIED:20260404T152741Z
UID:3180-1775491200-1775494800@urbanbirdproject.org
SUMMARY:Transdisciplinary Ecological Engagement as Rhetorical Practice with the Urban Bird Project
DESCRIPTION:
URL:https://urbanbirdproject.org/event/transdisciplinary-ecological-engagement-as-rhetorical-practice-with-the-urban-bird-project/
LOCATION:UT Austin\, 2515 Speedway\, Austin\, TX\, 78712
ATTACH;FMTTYPE=image/jpeg:https://urbanbirdproject.org/wp-content/uploads/2026/04/ubp-Austin-April6th.jpg
END:VEVENT
BEGIN:VEVENT
DTSTART;TZID=America/Chicago:20260415T130000
DTEND;TZID=America/Chicago:20260415T140000
DTSTAMP:20260425T115019
CREATED:20260410T210559Z
LAST-MODIFIED:20260414T180934Z
UID:3187-1776258000-1776261600@urbanbirdproject.org
SUMMARY:Story Focused Campus Birdwalk\, April 15th
DESCRIPTION:
URL:https://urbanbirdproject.org/event/story-focused-campus-birdwalk-april-15th/
ATTACH;FMTTYPE=image/jpeg:https://urbanbirdproject.org/wp-content/uploads/2026/04/ubp-campus-birdwalk-April15th.jpg
END:VEVENT
END:VCALENDAR